BEGIN:VCALENDAR
VERSION:2.0
PRODID:EVENTFROG//EVENT//ICAL
BEGIN:VEVENT
UID:20260425T114349Z-7450928160793725076@eventfrog.at
DTSTAMP:20260425T114349Z
DTSTART:20260426T130000Z
DTEND:20260426T140000Z
SUMMARY:Die Schöne & dsas Biest
DESCRIPTION:Die Schöne & das Biest\n\nDie Tochter eines Kaufmanns begibt sich in die Gewalt eines Untieres um das Leben ihres Vaters zu retten. Sie erkennt das gütige Herz des Ungeheuers und ist bereit seine Frau z\n\nhttps://eventfrog.at/de/p/kinderveranstaltungen/kindertheater/die-schoene-dsas-biest-7450928160793725076.html
LOCATION:FigurenTheaterHausMayen & FigurenTheaterKünster
GEO:50.330259;7.270039
URL:https://eventfrog.at/de/p/kinderveranstaltungen/kindertheater/die-schoene-dsas-biest-7450928160793725076.html
END:VEVENT
END:VCALENDAR