BEGIN:VCALENDAR
VERSION:2.0
PRODID:EVENTFROG//EVENT//ICAL
BEGIN:VEVENT
UID:20260423T154426Z-7450922554053639349@eventfrog.at
DTSTAMP:20260423T154426Z
DTSTART:20260625T161500Z
DTEND:20260625T171500Z
SUMMARY:Prof. Dr. Markus Gabriel: Was ist Denken?
DESCRIPTION:Prof. Dr. Markus Gabriel erklärt am 24. Juni, wie KI unser Denken und Selbstverständnis prägt und die Zukunft beeinflusst.\n\nhttps://eventfrog.at/de/p/wissenschaft-und-technik/prof-dr-markus-gabriel-was-ist-denken-7450922554053639349.html
LOCATION:Universität Luzern
GEO:47.049393;8.312515
URL:https://eventfrog.at/de/p/wissenschaft-und-technik/prof-dr-markus-gabriel-was-ist-denken-7450922554053639349.html
END:VEVENT
END:VCALENDAR