BEGIN:VCALENDAR
VERSION:2.0
PRODID:EVENTFROG//EVENT//ICAL
BEGIN:VEVENT
UID:20260426T021950Z-7450918552012380794@eventfrog.at
DTSTAMP:20260426T021950Z
DTSTART:20270410T173000Z
DTEND:20270410T215900Z
SUMMARY:Line-Dance Night mit Night-Train und den Lake-Wood-Dancers
DESCRIPTION:Line-Dance Night mit Night-Train und den Lake-Wood-Dancers\n\nhttps://eventfrog.at/de/p/konzerte/country/line-dance-night-mit-night-train-und-den-lake-wood-dancers-7450918552012380794.html
LOCATION:Chillout
GEO:47.301811;8.312788
URL:https://eventfrog.at/de/p/konzerte/country/line-dance-night-mit-night-train-und-den-lake-wood-dancers-7450918552012380794.html
END:VEVENT
END:VCALENDAR