BEGIN:VCALENDAR
VERSION:2.0
PRODID:EVENTFROG//EVENT//ICAL
BEGIN:VEVENT
UID:20260423T155135Z-7450911857018174483@eventfrog.at
DTSTAMP:20260423T155135Z
DTSTART:20260512T161500Z
DTEND:20260512T171500Z
SUMMARY:Prof. Dr. Mathias Binswanger: Auswirkungen der Zuwanderung
DESCRIPTION:Prof. Dr. Mathias Binswanger beleuchtet die Auswirkungen der Zuwanderung auf Wirtschaft und Lebensqualität in der Schweiz.\n\nhttps://eventfrog.at/de/p/wissenschaft-und-technik/prof-dr-mathias-binswanger-auswirkungen-der-zuwanderung-7450911857018174483.html
LOCATION:Universität Luzern
GEO:47.049393;8.312515
URL:https://eventfrog.at/de/p/wissenschaft-und-technik/prof-dr-mathias-binswanger-auswirkungen-der-zuwanderung-7450911857018174483.html
END:VEVENT
END:VCALENDAR