BEGIN:VCALENDAR
VERSION:2.0
PRODID:EVENTFROG//EVENT//ICAL
BEGIN:VEVENT
UID:20260419T133719Z-7450908777774073260@eventfrog.at
DTSTAMP:20260419T133719Z
DTSTART:20260620T170000Z
DTEND:20260620T181500Z
SUMMARY:Interstellar: Tribute to Hans Zimmer
DESCRIPTION:Entdecken Sie die unvergessliche Musik aus Christopher Nolans gefeiertem Film Interstellar, zum Leben erweckt durch die bezaubernde Interpretation des Ensemble Sinfonietta Bern!\n\nhttps://eventfrog.at/en/p/classical-music-operas/classical-music/interstellar-tribute-to-hans-zimmer-7450908777774073260.html
LOCATION:Yehudi Menuhin Forum
GEO:46.943891;7.447856
URL:https://eventfrog.at/en/p/classical-music-operas/classical-music/interstellar-tribute-to-hans-zimmer-7450908777774073260.html
END:VEVENT
END:VCALENDAR