BEGIN:VCALENDAR
VERSION:2.0
PRODID:EVENTFROG//EVENT//ICAL
BEGIN:VEVENT
UID:20260424T083436Z-7450900200200108036@eventfrog.at
DTSTAMP:20260424T083436Z
DTSTART:20260506T133000Z
DTEND:20260506T150000Z
SUMMARY:Setzlingsbörse auf dem Chorplatz Zofingen
DESCRIPTION:Unter dem Motto «Gemeinsam für mehr Vielfalt im Garten» lädt die Stadtbibliothek Zofingen in Zusammenarbeit mit HEKS Neue Gärten zur Setzlingsbörse ein.\n\nhttps://eventfrog.at/de/p/diverses/setzlingsboerse-auf-dem-chorplatz-zofingen-7450900200200108036.html
LOCATION:Stadtbibliothek Zofingen
GEO:47.288733;7.946077
URL:https://eventfrog.at/de/p/diverses/setzlingsboerse-auf-dem-chorplatz-zofingen-7450900200200108036.html
END:VEVENT
END:VCALENDAR