BEGIN:VCALENDAR
VERSION:2.0
PRODID:EVENTFROG//EVENT//ICAL
BEGIN:VEVENT
UID:20260419T194920Z-7450896525503290341@eventfrog.at
DTSTAMP:20260419T194920Z
DTSTART:20260529T160000Z
SUMMARY:Tuna Cutting Experience
DESCRIPTION:Im Restaurant & Bar Europe erleben Gäste ein exklusives Tuna-Cutting-Dinner: 180 kg Bluefin Thunfisch live zerlegt, jeder Schnitt erklärt und das feinste Fleisch direkt verkostet.\n\nhttps://eventfrog.at/de/p/essen-trinken/tuna-cutting-experience-7450896525503290341.html
LOCATION:Restaurant Bar Europe, Dufourstrasse 4, 8008 Zürich
GEO:47.364164;8.547112
URL:https://eventfrog.at/de/p/essen-trinken/tuna-cutting-experience-7450896525503290341.html
END:VEVENT
END:VCALENDAR