BEGIN:VCALENDAR
VERSION:2.0
PRODID:EVENTFROG//EVENT//ICAL
BEGIN:VEVENT
UID:20260421T235009Z-7450896056907230895@eventfrog.at
DTSTAMP:20260421T235009Z
DTSTART:20260425T170000Z
DTEND:20260425T193000Z
SUMMARY:Live Konzert und Song Contest Finale
DESCRIPTION:Am 25. April 2026 wird die Popakademie Mannheim zur Bühne für neue Stimmen zwischen Popmusik und Sinnfragen. Beim Credo·Collab Song Contest Finale performen junge Künstler:innen ihre Songs über Glaube\n\nhttps://eventfrog.at/de/p/konzerte/indie-alternative/live-konzert-und-song-contest-finale-7450896056907230895.html
LOCATION:Popakademie Baden-Württemberg 
GEO:49.496415;8.457159
URL:https://eventfrog.at/de/p/konzerte/indie-alternative/live-konzert-und-song-contest-finale-7450896056907230895.html
END:VEVENT
END:VCALENDAR