BEGIN:VCALENDAR
VERSION:2.0
PRODID:EVENTFROG//EVENT//ICAL
BEGIN:VEVENT
UID:20260419T181451Z-7450883002664521132@eventfrog.at
DTSTAMP:20260419T181451Z
DTSTART:20260813T161500Z
DTEND:20260813T204500Z
SUMMARY:Meersburg by Night
DESCRIPTION:Geniessen Sie eine Hin- und Rückfahrt zu einem gemütlichen Aufenthalt in Meersburg.\n\nhttps://eventfrog.at/de/p/freizeit-ausfluege/ausfahrt/meersburg-by-night-7450883002664521132.html
LOCATION:Schweizerische Bodensee-Schifffahrt AG
GEO:47.564596;9.380165
URL:https://eventfrog.at/de/p/freizeit-ausfluege/ausfahrt/meersburg-by-night-7450883002664521132.html
END:VEVENT
END:VCALENDAR