BEGIN:VCALENDAR
VERSION:2.0
PRODID:EVENTFROG//EVENT//ICAL
BEGIN:VEVENT
UID:20260422T113256Z-7450881689377605588@eventfrog.at
DTSTAMP:20260422T113256Z
DTSTART:20260627T170000Z
DTEND:20260627T203000Z
SUMMARY:Tanzschiff
DESCRIPTION:Walzer bis Discofox – Erleben Sie beschwingte Stunden auf dem Bodensee.\n\nhttps://eventfrog.at/de/p/partys/rhythm-blues/tanzschiff-7450881689377605588.html
LOCATION:Schweizerische Bodensee-Schifffahrt AG
GEO:47.564596;9.380165
URL:https://eventfrog.at/de/p/partys/rhythm-blues/tanzschiff-7450881689377605588.html
END:VEVENT
END:VCALENDAR