BEGIN:VCALENDAR
VERSION:2.0
PRODID:EVENTFROG//EVENT//ICAL
BEGIN:VEVENT
UID:20260419T233750Z-7450878699551898493@eventfrog.at
DTSTAMP:20260419T233750Z
DTSTART:20260509T183000Z
SUMMARY:Taverna - All Night Long
DESCRIPTION:Ab 20:30 verbindet DJ SINNO bei der TAVERNA Experience in St. Gallen Essen, Musik und Tanz mit Live-Performances und Überraschungen.\n\nhttps://eventfrog.at/de/p/partys/mottoparty/taverna-all-night-long-7450878699551898493.html
LOCATION:Eden Club St. Gallen
GEO:47.425708;9.372712
URL:https://eventfrog.at/de/p/partys/mottoparty/taverna-all-night-long-7450878699551898493.html
END:VEVENT
END:VCALENDAR