BEGIN:VCALENDAR
VERSION:2.0
PRODID:EVENTFROG//EVENT//ICAL
BEGIN:VEVENT
UID:20260424T090350Z-7450872507303723234@eventfrog.at
DTSTAMP:20260424T090350Z
DTSTART:20260611T173000Z
DTEND:20260611T190000Z
SUMMARY:Konzert Chor der 2. Klassen "Was wäre wenn.......?"
DESCRIPTION:Ein kurzweiliger Chorabend der zweiten Klassen mit Pop, Jazz und Klassik-Songs, gewürzt mit witzigen Überraschungen\n\nhttps://eventfrog.at/de/p/konzerte/chor/konzert-chor-der-2-klassen-was-waere-wenn-7450872507303723234.html
LOCATION:Südpol  Musik Tanz Theater
GEO:47.032800;8.296980
URL:https://eventfrog.at/de/p/konzerte/chor/konzert-chor-der-2-klassen-was-waere-wenn-7450872507303723234.html
END:VEVENT
END:VCALENDAR