BEGIN:VCALENDAR
VERSION:2.0
PRODID:EVENTFROG//EVENT//ICAL
BEGIN:VEVENT
UID:20260420T155803Z-7450868859328837943@eventfrog.at
DTSTAMP:20260420T155803Z
DTSTART:20260529T170000Z
DTEND:20260529T183000Z
SUMMARY:Matthias Kaluza: Audi in Le Mans – 24 Stunden am Limit
DESCRIPTION:Matthias Kaluza beleuchtet im PS.SPEICHER Audis Erfolge und Innovationen beim 24-Stunden-Rennen von Le Mans.\n\nhttps://eventfrog.at/de/p/fuehrungen-vortraege/vortrag/matthias-kaluza-audi-in-le-mans-24-stunden-am-limit-7450868859328837943.html
LOCATION:PS.SPEICHER
GEO:51.819872;9.861300
URL:https://eventfrog.at/de/p/fuehrungen-vortraege/vortrag/matthias-kaluza-audi-in-le-mans-24-stunden-am-limit-7450868859328837943.html
END:VEVENT
END:VCALENDAR