BEGIN:VCALENDAR
VERSION:2.0
PRODID:EVENTFROG//EVENT//ICAL
BEGIN:VEVENT
UID:20260421T173601Z-7450853123822721268@eventfrog.at
DTSTAMP:20260421T173601Z
DTSTART:20260523T170000Z
SUMMARY:SCOTT & LILA - Sommer, Songs & Sternenhimmel
DESCRIPTION:Das Duo SCOTT & LILA präsentiert Jazz-, Pop- und Folk-Songs im Garten des Forstamts Stadtsteinach an einem lauen Sommerabend.\n\nhttps://eventfrog.at/de/p/konzerte/singer-songwriter/scott-lila-sommer-songs-sternenhimmel-7450853123822721268.html
LOCATION:Garten des Forstamts Stadtsteinach
GEO:50.161906;11.503914
URL:https://eventfrog.at/de/p/konzerte/singer-songwriter/scott-lila-sommer-songs-sternenhimmel-7450853123822721268.html
END:VEVENT
END:VCALENDAR