BEGIN:VCALENDAR
VERSION:2.0
PRODID:EVENTFROG//EVENT//ICAL
BEGIN:VEVENT
UID:20260421T170257Z-7450847387784870063@eventfrog.at
DTSTAMP:20260421T170257Z
DTSTART:20260704T180000Z
DTEND:20260704T200000Z
SUMMARY:Beatles, Stones & Star Wars – Popmusik auf der Kirchenorgel
DESCRIPTION:Michael Schütz entführt mit einzigartiger Orgelmusik auf Zeitreise durch Pop-, Rock- und Filmmusik. Geeignet für alle Altersgruppen und Musikinteressierte.\n\nhttps://eventfrog.at/de/p/konzerte/pop-rock/beatles-stones-star-wars-popmusik-auf-der-kirchenorgel-7450847387784870063.html
LOCATION:Stadtkirche, Kirchplatz 2, 97215 Uffenheim
GEO:49.545550;10.228848
URL:https://eventfrog.at/de/p/konzerte/pop-rock/beatles-stones-star-wars-popmusik-auf-der-kirchenorgel-7450847387784870063.html
END:VEVENT
END:VCALENDAR