BEGIN:VCALENDAR
VERSION:2.0
PRODID:EVENTFROG//EVENT//ICAL
BEGIN:VEVENT
UID:20260419T133718Z-7450842108355726799@eventfrog.at
DTSTAMP:20260419T133718Z
DTSTART:20260604T170000Z
DTEND:20260604T180000Z
SUMMARY:Von der Kamera-Obscura bis zur heutigen digitalen Fotografie
DESCRIPTION:Willy Hartmann erläutert die Amateur-Foto- und Filmgeschichte von 1920 bis heute im Museum Zofingen am 4. Juni 2026.\n\nhttps://eventfrog.at/de/p/kunst-ausstellungen/ausstellung/von-der-kamera-obscura-bis-zur-heutigen-digitalen-fotografie-7450842108355726799.html
LOCATION:Museum Zofingen
GEO:47.290440;7.946653
URL:https://eventfrog.at/de/p/kunst-ausstellungen/ausstellung/von-der-kamera-obscura-bis-zur-heutigen-digitalen-fotografie-7450842108355726799.html
END:VEVENT
END:VCALENDAR