BEGIN:VCALENDAR
VERSION:2.0
PRODID:EVENTFROG//EVENT//ICAL
BEGIN:VEVENT
UID:20260420T044736Z-7450841538500771805@eventfrog.at
DTSTAMP:20260420T044736Z
DTSTART:20260423T173000Z
DTEND:20260423T190000Z
SUMMARY:Philosophischer Salon
DESCRIPTION:Der Salon lädt zur philosophischen Reflexion ein. Hier gibt es Raum für spontanes Nachdenken zu einem Thema.\n\nhttps://eventfrog.at/de/p/diverses/philosophischer-salon-7450841538500771805.html
LOCATION:Atelier der Stadtbibliothek Burgdorf
GEO:47.054828;7.623485
URL:https://eventfrog.at/de/p/diverses/philosophischer-salon-7450841538500771805.html
END:VEVENT
END:VCALENDAR