BEGIN:VCALENDAR
VERSION:2.0
PRODID:EVENTFROG//EVENT//ICAL
BEGIN:VEVENT
UID:20260420T191438Z-7450837227179889068@eventfrog.at
DTSTAMP:20260420T191438Z
DTSTART:20260506T080000Z
DTEND:20260506T160000Z
SUMMARY:ANDY WARHOL bis ALEX KATZ
DESCRIPTION:Mit großer Freude kündigt die Galerie Boisserée eine retrospektive Pop Art Ausstellung an. "Andy Warhol bis Alex Katz" ist vom 25. April bis zum 30. Mai 2026 in der Galerie Boisserée zu sehen.\n\nhttps://eventfrog.at/de/p/kunst-ausstellungen/ausstellung/andy-warhol-bis-alex-katz-7450837227179889068.html
LOCATION:Galerie Boisserée
GEO:50.940040;6.953628
URL:https://eventfrog.at/de/p/kunst-ausstellungen/ausstellung/andy-warhol-bis-alex-katz-7450837227179889068.html
END:VEVENT
END:VCALENDAR