BEGIN:VCALENDAR
VERSION:2.0
PRODID:EVENTFROG//EVENT//ICAL
BEGIN:VEVENT
UID:20260419T170022Z-7450813517710531766@eventfrog.at
DTSTAMP:20260419T170022Z
DTSTART:20260607T150000Z
SUMMARY:Konzert: brettissimo+Senioren Mandolinenorchester Luzern
DESCRIPTION:brettissimo und das Senioren Mandolinen Orchester Luzern (SMOL) spielen klassische, eigene und griechische Musik.\n\nhttps://eventfrog.at/de/p/konzerte/folk/konzert-brettissimo-senioren-mandolinenorchester-luzern-7450813517710531766.html
LOCATION:Pfarreisaal St. Michael, Luzern
GEO:47.037699;8.312495
URL:https://eventfrog.at/de/p/konzerte/folk/konzert-brettissimo-senioren-mandolinenorchester-luzern-7450813517710531766.html
END:VEVENT
END:VCALENDAR