BEGIN:VCALENDAR
VERSION:2.0
PRODID:EVENTFROG//EVENT//ICAL
BEGIN:VEVENT
UID:20260420T050610Z-7450812821804217658@eventfrog.at
DTSTAMP:20260420T050610Z
DTSTART:20260424T080000Z
DTEND:20260424T160000Z
SUMMARY:RUGBY-TURNIER IN BAD EMS: 25.4.2026
DESCRIPTION: RUGBY-TAG IN BAD EMS \nAm 25.04.2026 wird der Sportplatz an der Wiesbach zum Treffpunkt für alle Rugby-Fans und die, die es noch werden wollen!\n\nhttps://eventfrog.at/de/p/sport-fitness/sonstige-veranstaltungen/rugby-turnier-in-bad-ems-25-4-2026-7450812821804217658.html
LOCATION:RUGBY-Platz Wiesbach, Bad Ems
GEO:50.319039;7.729465
URL:https://eventfrog.at/de/p/sport-fitness/sonstige-veranstaltungen/rugby-turnier-in-bad-ems-25-4-2026-7450812821804217658.html
END:VEVENT
END:VCALENDAR