BEGIN:VCALENDAR
VERSION:2.0
PRODID:EVENTFROG//EVENT//ICAL
BEGIN:VEVENT
UID:20260421T113508Z-7450770926591849283@eventfrog.at
DTSTAMP:20260421T113508Z
DTSTART:20260508T163000Z
DTEND:20260508T210000Z
SUMMARY:Kneipenquiz Scarabeo Minden "Ready To Buzz"
DESCRIPTION:Erlebt das neue digitale Kneipenquiz mit Quizmaster Carsten. Bildet Teams, beantwortet Fragen per Tablet oder Laptop und seid schneller als die anderen. Mehr Info: www.readytobuzz.com\n\nhttps://eventfrog.at/de/p/freizeit-ausfluege/gruppen-spiele/kneipenquiz-scarabeo-minden-ready-to-buzz-7450770926591849283.html
LOCATION:Scarabeo Minden
GEO:52.286979;8.918956
URL:https://eventfrog.at/de/p/freizeit-ausfluege/gruppen-spiele/kneipenquiz-scarabeo-minden-ready-to-buzz-7450770926591849283.html
END:VEVENT
END:VCALENDAR