BEGIN:VCALENDAR
VERSION:2.0
PRODID:EVENTFROG//EVENT//ICAL
BEGIN:VEVENT
UID:20260425T012100Z-7450759612893005312@eventfrog.at
DTSTAMP:20260425T012100Z
DTSTART:20260426T130000Z
SUMMARY:Wittener Tage Für Neue Kammermusik 2026 - The Redheaded Man
DESCRIPTION:Chaya Czernowins «The Redheaded Man» wird am 25. & 26. April um 15 Uhr bei den Wittener Tagen im WERK°STADT aufgeführt.\n\nhttps://eventfrog.at/de/p/konzerte/weitere-musikrichtungen/wittener-tage-fuer-neue-kammermusik-2026-the-redheaded-man-7450759612893005312.html
LOCATION:WERK°STADT
GEO:51.440619;7.345882
URL:https://eventfrog.at/de/p/konzerte/weitere-musikrichtungen/wittener-tage-fuer-neue-kammermusik-2026-the-redheaded-man-7450759612893005312.html
END:VEVENT
END:VCALENDAR