BEGIN:VCALENDAR
VERSION:2.0
PRODID:EVENTFROG//EVENT//ICAL
BEGIN:VEVENT
UID:20260419T145828Z-7450667519323427016@eventfrog.at
DTSTAMP:20260419T145828Z
DTSTART:20260421T170000Z
DTEND:20260421T210000Z
SUMMARY:Klavierquintette von Brahms und Dvořák
DESCRIPTION:Kammermusikkonzert.\n\nhttps://eventfrog.at/de/p/konzerte/klavierquintette-von-brahms-und-dvoak-7450667519323427016.html
LOCATION:Hagenhaus
GEO:47.201427;9.545524
URL:https://eventfrog.at/de/p/konzerte/klavierquintette-von-brahms-und-dvoak-7450667519323427016.html
END:VEVENT
END:VCALENDAR