BEGIN:VCALENDAR
VERSION:2.0
PRODID:EVENTFROG//EVENT//ICAL
BEGIN:VEVENT
UID:20260424T080133Z-7450665470384977240@eventfrog.at
DTSTAMP:20260424T080133Z
DTSTART:20260524T090000Z
SUMMARY:Schwarze und PoC Kinder stärken
DESCRIPTION:Afro-Pfingsten Festival 2026\n\nhttps://eventfrog.at/de/p/kinderveranstaltungen/schwarze-und-poc-kinder-staerken-7450665470384977240.html
LOCATION:Alte Kaserne Winterthur
GEO:47.497854;8.731663
URL:https://eventfrog.at/de/p/kinderveranstaltungen/schwarze-und-poc-kinder-staerken-7450665470384977240.html
END:VEVENT
END:VCALENDAR