BEGIN:VCALENDAR
VERSION:2.0
PRODID:EVENTFROG//EVENT//ICAL
BEGIN:VEVENT
UID:20260419T210651Z-7450665217216772263@eventfrog.at
DTSTAMP:20260419T210651Z
DTSTART:20260624T120000Z
DTEND:20260624T140000Z
SUMMARY:Offene Gartennachmittag für Kinder
DESCRIPTION:Gemeinsam Gärtnern & den Naturgarten entdecken, mit z'Vieri.\n\nhttps://eventfrog.at/de/p/diverses/offene-gartennachmittag-fuer-kinder-7450665217216772263.html
LOCATION:Areal Bach
GEO:47.435348;9.392530
URL:https://eventfrog.at/de/p/diverses/offene-gartennachmittag-fuer-kinder-7450665217216772263.html
END:VEVENT
END:VCALENDAR