BEGIN:VCALENDAR
VERSION:2.0
PRODID:EVENTFROG//EVENT//ICAL
BEGIN:VEVENT
UID:20260424T072448Z-7450664155256777570@eventfrog.at
DTSTAMP:20260424T072448Z
DTSTART:20260515T170000Z
DTEND:20260515T190000Z
SUMMARY:Vernissage - Spuren – Fährten, Frass und Federn
DESCRIPTION:Sonderausstellung «Spuren - Fährten, Frass und Federn»\n\nhttps://eventfrog.at/de/p/wissenschaft-und-technik/vernissage-spuren-faehrten-frass-und-federn-7450664155256777570.html
LOCATION:Naturmuseum St.Gallen
GEO:47.439470;9.408700
URL:https://eventfrog.at/de/p/wissenschaft-und-technik/vernissage-spuren-faehrten-frass-und-federn-7450664155256777570.html
END:VEVENT
END:VCALENDAR