BEGIN:VCALENDAR
VERSION:2.0
PRODID:EVENTFROG//EVENT//ICAL
BEGIN:VEVENT
UID:20260419T145747Z-7450633335997469534@eventfrog.at
DTSTAMP:20260419T145747Z
DTSTART:20260709T173000Z
DTEND:20260709T184500Z
SUMMARY:Lu Jong - Meditation in Bewegung
DESCRIPTION:Lu Jong - Meditation in Bewegung \nverbindet Bewegung, Haltung und Atem. Tibetische Bewegungslehre jeden Donnerstag 19:30-20:45 im Körpersinn Bülach, auch für Einsteiger geeignet.\n\nhttps://eventfrog.at/de/p/gesundheit-spiritualitaet/gesundheit-wohlbefinden/lu-jong-meditation-in-bewegung-7450633335997469534.html
LOCATION:Körpersinn, www.koerper-sinn.ch, Bülach, CH
GEO:47.520420;8.539527
URL:https://eventfrog.at/de/p/gesundheit-spiritualitaet/gesundheit-wohlbefinden/lu-jong-meditation-in-bewegung-7450633335997469534.html
END:VEVENT
END:VCALENDAR