BEGIN:VCALENDAR
VERSION:2.0
PRODID:EVENTFROG//EVENT//ICAL
BEGIN:VEVENT
UID:20260422T113257Z-7450631988480873570@eventfrog.at
DTSTAMP:20260422T113257Z
DTSTART:20260430T170000Z
DTEND:20260501T040000Z
SUMMARY:WUT CLAN – ART OF NOISE Vol.01
DESCRIPTION:WUT CLAN — ART OF NOISE Vol. 1\nZum Auftakt des Berlin Gallery Weekend 2026 präsentiert das Berliner Künstlerkollektiv WUT CLAN — Term Shon (OPUS 90) und Pauly Gleason (Dirty Pauly) — seine erste Ausst\n\nhttps://eventfrog.at/de/p/kunst-ausstellungen/vernissage/wut-clan-art-of-noise-vol-01-7450631988480873570.html
LOCATION:Chausseestraße 131 (1. OG)
GEO:52.527299;13.386391
URL:https://eventfrog.at/de/p/kunst-ausstellungen/vernissage/wut-clan-art-of-noise-vol-01-7450631988480873570.html
END:VEVENT
END:VCALENDAR