BEGIN:VCALENDAR
VERSION:2.0
PRODID:EVENTFROG//EVENT//ICAL
BEGIN:VEVENT
UID:20260426T021425Z-7450598240494337102@eventfrog.at
DTSTAMP:20260426T021425Z
DTSTART:20260430T170000Z
DTEND:20260501T010000Z
SUMMARY:Tanz in den Mai – Mettgenpin 1877
DESCRIPTION:Eine lange Nacht, volle Tanzfläche, gute Vibes – feiert mit uns den Maiabend im Mettgenpin 1877. Mit DJ Dominik Wallot, Drinks und bei gutem Wetter Open-Air-Biergarten.\n\nhttps://eventfrog.at/de/p/partys/charts-open-format/tanz-in-den-mai-mettgenpin-1877-7450598240494337102.html
LOCATION:Mettgenpin 1877
GEO:51.380564;7.769109
URL:https://eventfrog.at/de/p/partys/charts-open-format/tanz-in-den-mai-mettgenpin-1877-7450598240494337102.html
END:VEVENT
END:VCALENDAR