BEGIN:VCALENDAR
VERSION:2.0
PRODID:EVENTFROG//EVENT//ICAL
BEGIN:VEVENT
UID:20260423T090018Z-7450560939181514722@eventfrog.at
DTSTAMP:20260423T090018Z
DTSTART:20260425T160000Z
DTEND:20260425T173000Z
SUMMARY:5. PLAYOUT      HSC Suhr Aarau vs. Handball Stäfa
DESCRIPTION:HSC Suhr Aarau, Traditions- und Ausbildungsverein\n\nhttps://eventfrog.at/de/p/sport-fitness/handball/5-playout-hsc-suhr-aarau-vs-handball-staefa-7450560939181514722.html
LOCATION:Sporthalle Schachen
GEO:47.390662;8.039546
URL:https://eventfrog.at/de/p/sport-fitness/handball/5-playout-hsc-suhr-aarau-vs-handball-staefa-7450560939181514722.html
END:VEVENT
END:VCALENDAR