BEGIN:VCALENDAR
VERSION:2.0
PRODID:EVENTFROG//EVENT//ICAL
BEGIN:VEVENT
UID:20260419T170610Z-7450538323251041240@eventfrog.at
DTSTAMP:20260419T170610Z
DTSTART:20260709T070000Z
SUMMARY:Der Zauberer von Oz
DESCRIPTION:Der berühmte Kinderbuchklassiker hat in seiner 125-jährigen Geschichte die Kinoleinwände und auch die Theaterbühnen der Welt erobert.\n\nhttps://eventfrog.at/de/p/theater-buehne/theater/der-zauberer-von-oz-7450538323251041240.html
LOCATION:Theater Schloss Maßbach - Unterfränkische Landesbühne
GEO:50.181256;10.281103
URL:https://eventfrog.at/de/p/theater-buehne/theater/der-zauberer-von-oz-7450538323251041240.html
END:VEVENT
END:VCALENDAR