BEGIN:VCALENDAR
VERSION:2.0
PRODID:EVENTFROG//EVENT//ICAL
BEGIN:VEVENT
UID:20260424T164942Z-7450537503545683982@eventfrog.at
DTSTAMP:20260424T164942Z
DTSTART:20270122T090000Z
DTEND:20270122T150000Z
SUMMARY:30. Job- und Bildungsmesse Leipzig - erster Messetag
DESCRIPTION:Alle Wege zu Deiner Karriere auf der originalen Job- und Bildungsmesse Leipzig am 22. und 23. Januar im Congress Center der Leipziger Messe.\n\nhttps://eventfrog.at/de/p/messen/messe/30-job-und-bildungsmesse-leipzig-erster-messetag-7450537503545683982.html
LOCATION:Congress Center der Leipziger Messe
GEO:51.397937;12.399374
URL:https://eventfrog.at/de/p/messen/messe/30-job-und-bildungsmesse-leipzig-erster-messetag-7450537503545683982.html
END:VEVENT
END:VCALENDAR