BEGIN:VCALENDAR
VERSION:2.0
PRODID:EVENTFROG//EVENT//ICAL
BEGIN:VEVENT
UID:20260421T162416Z-7450534274015487208@eventfrog.at
DTSTAMP:20260421T162416Z
DTSTART:20260507T170000Z
DTEND:20260507T183000Z
SUMMARY:Zwischen Toten und Liebenden - WPU KreAction des 10. Jg
DESCRIPTION:Aufführung des WPU KreAction Kurses der 10 Klassen des GSP (Frau Kleinfeld)\n\n\n\nhttps://eventfrog.at/de/p/theater-buehne/theater/zwischen-toten-und-liebenden-wpu-kreaction-des-10-jg-7450534274015487208.html
LOCATION:Gymnasium Schloss Plön (Aula) Keine Parkmöglichkeit an der Schule!
GEO:54.158192;10.406554
URL:https://eventfrog.at/de/p/theater-buehne/theater/zwischen-toten-und-liebenden-wpu-kreaction-des-10-jg-7450534274015487208.html
END:VEVENT
END:VCALENDAR