BEGIN:VCALENDAR
VERSION:2.0
PRODID:EVENTFROG//EVENT//ICAL
BEGIN:VEVENT
UID:20260421T143157Z-7450532087185031941@eventfrog.at
DTSTAMP:20260421T143157Z
DTSTART:20270310T110000Z
DTEND:20270310T170000Z
SUMMARY:15. Jobmesse Magdeburg
DESCRIPTION:Alle Wege zu Deiner Karriere auf der 15. Jobmesse Magdeburg am 10.03.2027 in der Festung Mark\n\nhttps://eventfrog.at/de/p/messen/messe/15-jobmesse-magdeburg-7450532087185031941.html
LOCATION:FestungMark
GEO:52.137995;11.646043
URL:https://eventfrog.at/de/p/messen/messe/15-jobmesse-magdeburg-7450532087185031941.html
END:VEVENT
END:VCALENDAR