BEGIN:VCALENDAR
VERSION:2.0
PRODID:EVENTFROG//EVENT//ICAL
BEGIN:VEVENT
UID:20260422T100903Z-7450530159529049719@eventfrog.at
DTSTAMP:20260422T100903Z
DTSTART:20260430T181500Z
DTEND:20260430T201500Z
SUMMARY:CALLE MÁLAGA (OV/d)
DESCRIPTION:Maria Angeles kämpft darum, in Tanger zu bleiben, und entdeckt dabei unerwartet neue Liebe und Sinnlichkeit.\n\nhttps://eventfrog.at/de/p/freizeit-ausfluege/film-kino/calle-malaga-ov-d-7450530159529049719.html
LOCATION:Kultur Marabu Gelterkinden
GEO:47.465135;7.856058
URL:https://eventfrog.at/de/p/freizeit-ausfluege/film-kino/calle-malaga-ov-d-7450530159529049719.html
END:VEVENT
END:VCALENDAR