BEGIN:VCALENDAR
VERSION:2.0
PRODID:EVENTFROG//EVENT//ICAL
BEGIN:VEVENT
UID:20260424T105314Z-7450527200460161096@eventfrog.at
DTSTAMP:20260424T105314Z
DTSTART:20261203T190000Z
DTEND:20261203T213000Z
SUMMARY:In Extremo
DESCRIPTION:AKUSTIK-TOUR - TRANQUILO II\n\nhttps://eventfrog.at/de/p/konzerte/pop-rock/in-extremo-7450527200460161096.html
LOCATION:Volkshaus
GEO:47.375221;8.527477
URL:https://eventfrog.at/de/p/konzerte/pop-rock/in-extremo-7450527200460161096.html
END:VEVENT
END:VCALENDAR