BEGIN:VCALENDAR
VERSION:2.0
PRODID:EVENTFROG//EVENT//ICAL
BEGIN:VEVENT
UID:20260423T051835Z-7450470008398847474@eventfrog.at
DTSTAMP:20260423T051835Z
DTSTART:20260710T170000Z
DTEND:20260710T190000Z
SUMMARY:Lesung mit Friedensnobelpreisträgerin Irina Scherbakowa
DESCRIPTION:"Der Schlüssel würde noch passen" - Buchlesung und Diskussion mit Friedensnobelpreisträgerin Irina Scherbakowa\n\nhttps://eventfrog.at/de/p/theater-buehne/lesung/lesung-mit-friedensnobelpreistraegerin-irina-scherbakowa-7450470008398847474.html
LOCATION:STiC-er Theater / Alte Eisengießerei
GEO:54.312214;13.093143
URL:https://eventfrog.at/de/p/theater-buehne/lesung/lesung-mit-friedensnobelpreistraegerin-irina-scherbakowa-7450470008398847474.html
END:VEVENT
END:VCALENDAR