BEGIN:VCALENDAR
VERSION:2.0
PRODID:EVENTFROG//EVENT//ICAL
BEGIN:VEVENT
UID:20260420T075824Z-7450449807334722417@eventfrog.at
DTSTAMP:20260420T075824Z
DTSTART:20260515T130000Z
DTEND:20260515T170000Z
SUMMARY:Annemie Lieder - Ausstellung
DESCRIPTION:Die Aargauer Künstlerin Annemie Lieder hat das Auge für Unscheinbares, Nebensächliches. Und rückt das behutsam ins Zentrum ihres Schaffens.  Ihre Kunst ist nicht plakativ, sondern poetisch.\n\nhttps://eventfrog.at/de/p/kunst-ausstellungen/ausstellung/annemie-lieder-ausstellung-7450449807334722417.html
LOCATION:Kunstforum Sursee
GEO:47.172078;8.109937
URL:https://eventfrog.at/de/p/kunst-ausstellungen/ausstellung/annemie-lieder-ausstellung-7450449807334722417.html
END:VEVENT
END:VCALENDAR