BEGIN:VCALENDAR
VERSION:2.0
PRODID:EVENTFROG//EVENT//ICAL
BEGIN:VEVENT
UID:20260420T075707Z-7450449725629677331@eventfrog.at
DTSTAMP:20260420T075707Z
DTSTART:20260426T090000Z
DTEND:20260426T140000Z
SUMMARY:Annemie Lieder - Ausstellung
DESCRIPTION:Die Aargauer Künstlerin Annemie Lieder hat das Auge für Unscheinbares, Nebensächliches. Und rückt das behutsam ins Zentrum ihres Schaffens.  Ihre Kunst ist nicht plakativ, sondern poetisch.\n\nhttps://eventfrog.at/de/p/kunst-ausstellungen/ausstellung/annemie-lieder-ausstellung-7450449725629677331.html
LOCATION:Kunstforum Sursee
GEO:47.172078;8.109937
URL:https://eventfrog.at/de/p/kunst-ausstellungen/ausstellung/annemie-lieder-ausstellung-7450449725629677331.html
END:VEVENT
END:VCALENDAR