BEGIN:VCALENDAR
VERSION:2.0
PRODID:EVENTFROG//EVENT//ICAL
BEGIN:VEVENT
UID:20260420T200113Z-7450416939229284934@eventfrog.at
DTSTAMP:20260420T200113Z
DTSTART:20260423T150000Z
DTEND:20260423T163000Z
SUMMARY:Auftaktveranstaltung Gesundheitsprogramm "Reconnect & Rewind
DESCRIPTION:Die Auftaktveranstaltung gibt Informationen zu dem weiteren Verlauf des Programms.\n\nhttps://eventfrog.at/de/p/gesundheit-spiritualitaet/gesunde-ernaehrung/auftaktveranstaltung-gesundheitsprogramm-reconnect-rewind-7450416939229284934.html
LOCATION:Hochschule Fulda
GEO:50.565094;9.686796
URL:https://eventfrog.at/de/p/gesundheit-spiritualitaet/gesunde-ernaehrung/auftaktveranstaltung-gesundheitsprogramm-reconnect-rewind-7450416939229284934.html
END:VEVENT
END:VCALENDAR