BEGIN:VCALENDAR
VERSION:2.0
PRODID:EVENTFROG//EVENT//ICAL
BEGIN:VEVENT
UID:20260419T181452Z-7450301464906310185@eventfrog.at
DTSTAMP:20260419T181452Z
DTSTART:20260508T180000Z
SUMMARY:How to Make a Killing – Todsicheres Erbe
DESCRIPTION:Thriller, Schwarze Komödie.\n\nhttps://eventfrog.at/de/p/freizeit-ausfluege/how-to-make-a-killing-todsicheres-erbe-7450301464906310185.html
LOCATION:Kino Rosental
GEO:47.442578;9.533443
URL:https://eventfrog.at/de/p/freizeit-ausfluege/how-to-make-a-killing-todsicheres-erbe-7450301464906310185.html
END:VEVENT
END:VCALENDAR