BEGIN:VCALENDAR
VERSION:2.0
PRODID:EVENTFROG//EVENT//ICAL
BEGIN:VEVENT
UID:20260419T154208Z-7450300905394561147@eventfrog.at
DTSTAMP:20260419T154208Z
DTSTART:20260502T210000Z
SUMMARY:iStream
DESCRIPTION:iStream\n\nhttps://eventfrog.at/de/p/partys/istream-7450300905394561147.html
LOCATION:Albani
GEO:47.498480;8.729190
URL:https://eventfrog.at/de/p/partys/istream-7450300905394561147.html
END:VEVENT
END:VCALENDAR