BEGIN:VCALENDAR
VERSION:2.0
PRODID:EVENTFROG//EVENT//ICAL
BEGIN:VEVENT
UID:20260425T191909Z-7450297107347421696@eventfrog.at
DTSTAMP:20260425T191909Z
DTSTART:20260509T160000Z
SUMMARY:Das Tanzfest - Around The World
DESCRIPTION:Das Tanzfest - Around The World\n\nhttps://eventfrog.at/de/p/konzerte/das-tanzfest-around-the-world-7450297107347421696.html
LOCATION:Grabenhalle
GEO:47.427340;9.374160
URL:https://eventfrog.at/de/p/konzerte/das-tanzfest-around-the-world-7450297107347421696.html
END:VEVENT
END:VCALENDAR