BEGIN:VCALENDAR
VERSION:2.0
PRODID:EVENTFROG//EVENT//ICAL
BEGIN:VEVENT
UID:20260425T191909Z-7450297107179649535@eventfrog.at
DTSTAMP:20260425T191909Z
DTSTART:20260508T170000Z
SUMMARY:Das Tanzfest - Swing Soirée
DESCRIPTION:Das Tanzfest - Swing Soirée\n\nhttps://eventfrog.at/de/p/konzerte/das-tanzfest-swing-soiree-7450297107179649535.html
LOCATION:Grabenhalle
GEO:47.427340;9.374160
URL:https://eventfrog.at/de/p/konzerte/das-tanzfest-swing-soiree-7450297107179649535.html
END:VEVENT
END:VCALENDAR