BEGIN:VCALENDAR
VERSION:2.0
PRODID:EVENTFROG//EVENT//ICAL
BEGIN:VEVENT
UID:20260420T122703Z-7450231579895450122@eventfrog.at
DTSTAMP:20260420T122703Z
DTSTART:20260510T070000Z
DTEND:20260510T120000Z
SUMMARY:Muttertagsbrunch
DESCRIPTION:Brunch von 9 bis 14 Uhr mit warmen und kalten Speisen, alles inklusive ausser Getränke. Maximal 20 Plätze, Buchung ist fix.\n\nhttps://eventfrog.at/de/p/essen-trinken/muttertagsbrunch-7450231579895450122.html
LOCATION:Sweetwolf Stübli
GEO:47.437774;9.403721
URL:https://eventfrog.at/de/p/essen-trinken/muttertagsbrunch-7450231579895450122.html
END:VEVENT
END:VCALENDAR