BEGIN:VCALENDAR
VERSION:2.0
PRODID:EVENTFROG//EVENT//ICAL
BEGIN:VEVENT
UID:20260419T173110Z-7450203622372017693@eventfrog.at
DTSTAMP:20260419T173110Z
DTSTART:20260606T120000Z
DTEND:20260606T150000Z
SUMMARY:Klimabaum-Safari
DESCRIPTION:Genießen Sie die Fahrt durch die Baumschule, entdecken Sie u. a. im Klimabaum-Hain über 70 Gehölzarten und -sorten, die sich auch schwierigen Bedingungen anpassen. Fachsimpeln Sie mit den Dozenten übe\n\nhttps://eventfrog.at/de/p/fuehrungen-vortraege/fuehrung/klimabaum-safari-7450203622372017693.html
LOCATION:Garten von Ehren
GEO:53.429631;9.935456
URL:https://eventfrog.at/de/p/fuehrungen-vortraege/fuehrung/klimabaum-safari-7450203622372017693.html
END:VEVENT
END:VCALENDAR