BEGIN:VCALENDAR
VERSION:2.0
PRODID:EVENTFROG//EVENT//ICAL
BEGIN:VEVENT
UID:20260421T133626Z-7450164075378517994@eventfrog.at
DTSTAMP:20260421T133626Z
DTSTART:20260718T153000Z
DTEND:20260718T180000Z
SUMMARY:Münchens neues Dating Event (40–50 J.) – Achtsames Dating
DESCRIPTION:Achtsames Dating in München, 40-50 Jahre. In einem ruhigen Raum begegnet ihr euch spielerisch & authentisch – ohne Swipen, sondern mit echter Verbindung. DIE Alternative zum klassischen Speed Dating. \n\nhttps://eventfrog.at/de/p/dating/speed-dating/muenchens-neues-dating-event-4050-j-achtsames-dating-7450164075378517994.html
LOCATION:YOGASHALA - Iyengar Yoga München
GEO:48.133309;11.569149
URL:https://eventfrog.at/de/p/dating/speed-dating/muenchens-neues-dating-event-4050-j-achtsames-dating-7450164075378517994.html
END:VEVENT
END:VCALENDAR