BEGIN:VCALENDAR
VERSION:2.0
PRODID:EVENTFROG//EVENT//ICAL
BEGIN:VEVENT
UID:20260419T172109Z-7450157058056287579@eventfrog.at
DTSTAMP:20260419T172109Z
DTSTART:20260605T120000Z
DTEND:20260605T170000Z
SUMMARY:Circular Innovation Day 2026
DESCRIPTION:Explore innovative circular solutions and connect with pioneers, entrepreneurs and experts driving Switzerland's circular economy future.\n\nhttps://eventfrog.at/de/p/diverses/circular-innovation-day-2026-7450157058056287579.html
LOCATION:Kraftwerk Zürich
GEO:47.372528;8.532219
URL:https://eventfrog.at/de/p/diverses/circular-innovation-day-2026-7450157058056287579.html
END:VEVENT
END:VCALENDAR