BEGIN:VCALENDAR
VERSION:2.0
PRODID:EVENTFROG//EVENT//ICAL
BEGIN:VEVENT
UID:20260419T172110Z-7450154903287142248@eventfrog.at
DTSTAMP:20260419T172110Z
DTSTART:20260425T090000Z
DTEND:20260425T160000Z
SUMMARY:Worringer Hoftrödel
DESCRIPTION:16. Worringer Hoftrödel mit mehr als 100 Ständen im nördlichsten Stadtteil von Köln. \n\nhttps://eventfrog.at/de/p/diverses/worringer-hoftroedel-7450154903287142248.html
LOCATION:16.Worringer Hoftrödel
GEO:51.056017;6.874194
URL:https://eventfrog.at/de/p/diverses/worringer-hoftroedel-7450154903287142248.html
END:VEVENT
END:VCALENDAR