BEGIN:VCALENDAR
VERSION:2.0
PRODID:EVENTFROG//EVENT//ICAL
BEGIN:VEVENT
UID:20260422T192631Z-7450152739902854308@eventfrog.at
DTSTAMP:20260422T192631Z
DTSTART:20260514T170000Z
SUMMARY:Mademoiselle Docteur – eine Geheimdienstkarriere
DESCRIPTION:Zwei Historikerinnen beleuchten die unbekannte Geschichte von Mata Hari und ihrer Ausbilderin im 1. Weltkrieg.\n\nhttps://eventfrog.at/de/p/fuehrungen-vortraege/podium/mademoiselle-docteur-eine-geheimdienstkarriere-7450152739902854308.html
LOCATION:Deutsches Spionagemuseum
GEO:52.509617;13.378148
URL:https://eventfrog.at/de/p/fuehrungen-vortraege/podium/mademoiselle-docteur-eine-geheimdienstkarriere-7450152739902854308.html
END:VEVENT
END:VCALENDAR